BEGIN:VCALENDAR
VERSION:2.0
PRODID:-//IP.Board Calendar 4.6.5.1//EN
METHOD:PUBLISH
CALSCALE:GREGORIAN
BEGIN:VTIMEZONE
TZID:Europe/London
TZURL:http://tzurl.org/zoneinfo/Europe/London
X-LIC-LOCATION:Europe/London
BEGIN:DAYLIGHT
TZOFFSETFROM:+0000
TZOFFSETTO:+0100
TZNAME:BST
DTSTART:20170326T020000Z
RRULE:FREQ=YEARLY;BYMONTH=3;BYDAY=-1SU
END:DAYLIGHT
BEGIN:STANDARD
TZOFFSETFROM:+0100
TZOFFSETTO:+0000
TZNAME:GMT
DTSTART:20171029T020000Z
RRULE:FREQ=YEARLY;BYMONTH=10;BYDAY=-1SU
END:STANDARD
END:VTIMEZONE
BEGIN:VTIMEZONE
TZID:Europe/London
TZURL:http://tzurl.org/zoneinfo/Europe/London
X-LIC-LOCATION:Europe/London
BEGIN:DAYLIGHT
TZOFFSETFROM:+0000
TZOFFSETTO:+0100
TZNAME:BST
DTSTART:20160327T020000Z
RRULE:FREQ=YEARLY;BYMONTH=3;BYDAY=-1SU
END:DAYLIGHT
BEGIN:STANDARD
TZOFFSETFROM:+0100
TZOFFSETTO:+0000
TZNAME:GMT
DTSTART:20161030T020000Z
RRULE:FREQ=YEARLY;BYMONTH=10;BYDAY=-1SU
END:STANDARD
END:VTIMEZONE
BEGIN:VTIMEZONE
TZID:Europe/London
TZURL:http://tzurl.org/zoneinfo/Europe/London
X-LIC-LOCATION:Europe/London
BEGIN:DAYLIGHT
TZOFFSETFROM:+0000
TZOFFSETTO:+0100
TZNAME:BST
DTSTART:20150329T020000Z
RRULE:FREQ=YEARLY;BYMONTH=3;BYDAY=-1SU
END:DAYLIGHT
BEGIN:STANDARD
TZOFFSETFROM:+0100
TZOFFSETTO:+0000
TZNAME:GMT
DTSTART:20151025T020000Z
RRULE:FREQ=YEARLY;BYMONTH=10;BYDAY=-1SU
END:STANDARD
END:VTIMEZONE
BEGIN:VTIMEZONE
TZID:Europe/London
TZURL:http://tzurl.org/zoneinfo/Europe/London
X-LIC-LOCATION:Europe/London
BEGIN:DAYLIGHT
TZOFFSETFROM:+0000
TZOFFSETTO:+0100
TZNAME:BST
DTSTART:20140330T020000Z
RRULE:FREQ=YEARLY;BYMONTH=3;BYDAY=-1SU
END:DAYLIGHT
BEGIN:STANDARD
TZOFFSETFROM:+0100
TZOFFSETTO:+0000
TZNAME:GMT
DTSTART:20141026T020000Z
RRULE:FREQ=YEARLY;BYMONTH=10;BYDAY=-1SU
END:STANDARD
END:VTIMEZONE
BEGIN:VTIMEZONE
TZID:Europe/London
TZURL:http://tzurl.org/zoneinfo/Europe/London
X-LIC-LOCATION:Europe/London
BEGIN:DAYLIGHT
TZOFFSETFROM:+0000
TZOFFSETTO:+0100
TZNAME:BST
DTSTART:20130331T020000Z
RRULE:FREQ=YEARLY;BYMONTH=3;BYDAY=-1SU
END:DAYLIGHT
BEGIN:STANDARD
TZOFFSETFROM:+0100
TZOFFSETTO:+0000
TZNAME:GMT
DTSTART:20131027T020000Z
RRULE:FREQ=YEARLY;BYMONTH=10;BYDAY=-1SU
END:STANDARD
END:VTIMEZONE
BEGIN:VEVENT
SUMMARY:crazzzydawn and Jims memorial run St Marys Loch Scottish Bor
	ders
DTSTAMP:20170527T083316Z
SEQUENCE:0
UID:22-1-b253c45578f36dc9d4c45acf9db31ac6@civic5.com
ORGANIZER;CN="Dave":administrator@civic5.com
DESCRIPTION:\n\n	Hi guys. Ok\, quite a few have asked when are we going 
	to have the memorial meet/run again\, so looking at what members have post
	ed dtaes wise\, we're going to have this on the following date:\n\n\n\n	SU
	NDAY 20th AUGUST 2017 (Time tbc)\n\n\n\n	 \n\n\n\n	We've changed it sligh
	tly (was Dawns memorial meet previously) but as we lost long time member (
	and my best friend) Jim last year to cancer thought it would be fitting to
	 have the run in memory of them both. Jim was at every St Marys loch meet\
	, and loved it as much as Dawn did. Will be strange for me with him not be
	ing there\, but know they'll both be looking down on us all having fun.\n\
	n\n\n	 \n\n\n\n	If it's your first time on the run\, you're in for a trea
	t. Starting in the town of Dalkeith\, we will be going on some amazing roa
	ds (check previous videos) and will be having a few photoshoots along the 
	way. As always\, we'll finish up with a stop in one of the beautiful Scott
	ish borders towns for food and refreshments and a good old bit of banter.\
	n\n\n\n	And I promise I won't get a puncture this time! lmao\n\n\n\n	 \n\
	n\n\n	please click on attending etc if your coming along.\n\n\n\n	 \n\n\n
	\n	link to main post &gt\;&gt\;&gt\; \n\n\n\n\n	 \n\n\n\n	\n		 \n	\n\n
DTSTART:20170820T120000Z
DTEND:20170820T180000Z
ATTENDEE;CN="dr_broon";CUTYPE=INDIVIDUAL;PARTSTAT=ACCEPTED:a
	dministrator@civic5.com
ATTENDEE;CN="Dave";CUTYPE=INDIVIDUAL;PARTSTAT=ACCEPTED:admin
	istrator@civic5.com
END:VEVENT
BEGIN:VEVENT
SUMMARY:Japfest Silverstone
DTSTAMP:20170204T163927Z
SEQUENCE:0
UID:21-1-b253c45578f36dc9d4c45acf9db31ac6@civic5.com
ORGANIZER;CN="Dave":administrator@civic5.com
DESCRIPTION:\n	\n		Its that time of year again\, japfest this year is at
	 Silverstone circuit on 30th April 2017\n	\n\n	\n		This year is the same a
	s last year\, I don't handle the money or the tickets this year\, each clu
	b member that wants to come on the club stand will need to book there own 
	tickets and vehicle passes by Friday 24th march.\n	\n\n	\n		 \n	\n\n	\n	
		Club members will need to go on www.japfest.co.uk/club-tickets to book 
	there tickets and vehicle passes.\n	\n\n	\n		 \n	\n\n	\n		next select civ
	ic5 from the menu and enter the clubs personal password = 111.117\n	\n\n	
	\n		 \n	\n\n	\n		proceed to select required tickets\, vehicle passes\, tr
	ack time and place order.\n	\n\n	\n		 \n	\n\n	\n		once booked you will re
	ceive a confirmation email as proof of payment.    \n	\n\n	\n		 \n	\n
	\n	\n		PLEASE NOTE!!!! Your tickets and vehicle passes will be sent via em
	ail no later than one week before the event date.\n	\n\n	\n		They will nee
	d to be printed and brought with you on the day for scanning on entry.\n	\
	n\n	\n		 \n	\n\n	\n		That's it!! if anyone has any questions pm me thank
	s \n
DTSTART;VALUE=DATE:20170430
END:VEVENT
BEGIN:VEVENT
SUMMARY:Japshow finale
DTSTAMP:20160831T211924Z
SEQUENCE:0
UID:20-1-b253c45578f36dc9d4c45acf9db31ac6@civic5.com
ORGANIZER;CN="philgor":administrator@civic5.com
DESCRIPTION:\n	Civic 5 attending Japshow finale \n
DTSTART;VALUE=DATE:20161002
END:VEVENT
BEGIN:VEVENT
SUMMARY:Civic5 Birthday!
DTSTAMP:20160403T002430Z
SEQUENCE:0
UID:18-1-b253c45578f36dc9d4c45acf9db31ac6@civic5.com
ORGANIZER;CN="Dave":administrator@civic5.com
DESCRIPTION:\n\n	Civic5 Birthday! Civic5.com first opened it's doors to 
	members on 26 April 2009. Today is the clubs 7th birthday! Hard to believe
	 we have been running for 7 years now! And still  growing!! We hope you a
	ll enjoy the site and club!\n\n\n\n	\n
DTSTART;VALUE=DATE:20160426
END:VEVENT
BEGIN:VEVENT
SUMMARY:Japfest 2016 Civic5 stand
DTSTAMP:20160315T223526Z
SEQUENCE:0
UID:17-1-b253c45578f36dc9d4c45acf9db31ac6@civic5.com
ORGANIZER;CN="Dave":administrator@civic5.com
DESCRIPTION:\n\n\n\n\n\n\n	See the post in the Meets and Shows section t
	o see who's going and get your name down if you want to be on our show sta
	nd. Times running out so be quick!\n\n\n
DTSTART;VALUE=DATE:20160424
ATTENDEE;CN="VTISmichael";CUTYPE=INDIVIDUAL;PARTSTAT=ACCEPTE
	D:administrator@civic5.com
ATTENDEE;CN="Grant";CUTYPE=INDIVIDUAL;PARTSTAT=ACCEPTED:admi
	nistrator@civic5.com
ATTENDEE;CN="Chandler";CUTYPE=INDIVIDUAL;PARTSTAT=ACCEPTED:a
	dministrator@civic5.com
ATTENDEE;CN="philgor";CUTYPE=INDIVIDUAL;PARTSTAT=ACCEPTED:ad
	ministrator@civic5.com
END:VEVENT
BEGIN:VEVENT
SUMMARY:Civic5 Reopens new Forum!
DTSTAMP:20160302T163806Z
SEQUENCE:0
UID:16-1-b253c45578f36dc9d4c45acf9db31ac6@civic5.com
ORGANIZER;CN="Dave":administrator@civic5.com
DESCRIPTION:\n\n\n	Civic5 opens it's brand new forum today at 5pm. Hope 
	to see you all there! \n
DTSTART;VALUE=DATE:20160302
END:VEVENT
BEGIN:VEVENT
SUMMARY:Cheddar meet
DTSTAMP:20160201T105750Z
SEQUENCE:0
UID:15-1-b253c45578f36dc9d4c45acf9db31ac6@civic5.com
ORGANIZER;CN="Krzys":administrator@civic5.com
DESCRIPTION:\nLocation cheddarDate 7th Feb 2016Time 10:30amMeeting at:Br
	ent House (Pub)Bristol RdBrent KnollHighbridgeTA9 4HL\n
DTSTART;VALUE=DATE:20160207
END:VEVENT
BEGIN:VEVENT
SUMMARY:International HONDA Meeting 2016 - NL
DTSTAMP:20160131T153605Z
SEQUENCE:0
UID:14-1-b253c45578f36dc9d4c45acf9db31ac6@civic5.com
ORGANIZER;CN="HondaRBy":administrator@civic5.com
DESCRIPTION:\nAlso this year\, the IHM\, International HONDA Meeting\, w
	ill take place!Sunday April 17th 2016\, 12:00 - 18:00h - Hotel/Truckstop N
	OBIS\, in Asten (NL)Entrance fee: € 5\,00 per car\, with that you'll be 
	automatically be competing in the BEST OF ... CONTEST\,but in case you're 
	not interested in winning a beautiful award\, then it's only € 2\,00 per
	 car.The entrance fee is purely there\, to cover the costs. This meeting i
	s powered (or made possible) by:This year\, we'll have more stands\, so be
	 sure to bring some money!These are now confirmed\, but it's likely this l
	ist will still grow... : * HONDAMOBILIA * WORLD-OF-STICKER.de * DRIVEN2SHI
	NE * STICKERDUMP * JT-PERFORMANCE (ECU Master) * CUSTOMDIP.nl * SAN-TOSO *
	 BPO AUTOMOTIVE HOLLANDThere are 10 different awards to win.9 Different aw
	ards to be won in the BEST OF ... CONTEST\, in the following categories: *
	 Best of Wheels * Best of Engine * Best of Paint * Best of OEM * Best of C
	ustom * Best of Interior * Best of Classic * Best of Track * Best of Daily
	1 Award for the one who had to travel the longest distance to be present a
	t the IHM: * IHM Globetrotter AwardFor more information about the STANDS\,
	 the different BEST OF ... CONTEST categories and lots more\, visit the we
	bsite:http://www.honda-meeting.nlThe awards are made by: A(i)RT - http://w
	ww.air-art.nlHow they will look like\, we will not yet reveal\, but it's s
	ure that they will be beautiful and really unique!!Just like last year\, h
	undreds of beautiful pictures will be taken by the people of:Shot at Speed
	 - https://www.facebook.com/ShotAtSpeed/Do you want YOUR Honda to appear o
	n one of those pictures? Talk to the guys\, they will be more than happy t
	o create the best looking pictures for you!We'll also make sure that kids 
	won't be bored\, when coming along. Last year there was a bouncing castle.
	 We'll arrange something like that again\, this year\, too. Maybe even mor
	e than that...We're also in contact with a certain someone who calls himse
	lf HondaPro Jason\, to get some very nice giveaways\, that we'll be handin
	g out with a lottery of some sort (We'll have to finalize this\, still\, b
	ut it's looking very promising).And if this is not yet enough\, we also he
	ard from HONDA Europe that they will also sponsor a little something to gi
	ve out to every car (not every single person).... So make sure you'll be t
	here!Let us know (when you have an account) on facebook that you're coming
	. Every picture left there of your car will be appreciated.https://www.fac
	ebook.com/events/975876995807524/Here are a couple of shots of last year's
	 IHM\, by courtesy of Shot at Speed.We hope to see and talk to lots of you
	!We're really looking forward to it! C U THERE !\n
DTSTART;VALUE=DATE:20160417
END:VEVENT
BEGIN:VEVENT
SUMMARY:Jap Finale
DTSTAMP:20150907T124129Z
SEQUENCE:0
UID:13-1-b253c45578f36dc9d4c45acf9db31ac6@civic5.com
ORGANIZER;CN="Krzys":administrator@civic5.com
DESCRIPTION:\nhttp://civic5.com/forum/topic/10342-jap-finale-11th-oct/#e
	ntry274904\n
DTSTART;VALUE=DATE:20151011
END:VEVENT
BEGIN:VEVENT
SUMMARY:Civic5 Southern Summer Smasher BBQ. 2015
DTSTAMP:20150517T233123Z
SEQUENCE:2
UID:11-1-b253c45578f36dc9d4c45acf9db31ac6@civic5.com
ORGANIZER;CN="Dave":administrator@civic5.com
DESCRIPTION:\nCivic5 Southern Smasher BBQ 2015 (at Toms place!) starts 1
	1am ---&gt\;For more details\, see here ---&gt\;&gt\; http://civic5.com/fo
	rum/topic/9750-civic5-southern-summer-smasher-bbq-2015/\n
DTSTART;VALUE=DATE:20150628
ATTENDEE;CN="Jayhoath83";CUTYPE=INDIVIDUAL;PARTSTAT=ACCEPTED
	:administrator@civic5.com
ATTENDEE;CN="UnicyclingTom";CUTYPE=INDIVIDUAL;PARTSTAT=ACCEP
	TED:administrator@civic5.com
ATTENDEE;CN="philgor";CUTYPE=INDIVIDUAL;PARTSTAT=ACCEPTED:ad
	ministrator@civic5.com
END:VEVENT
BEGIN:VEVENT
SUMMARY:Simply Japanese/sir little nick esq tribulte meet
DTSTAMP:20150517T233649Z
SEQUENCE:2
UID:12-1-b253c45578f36dc9d4c45acf9db31ac6@civic5.com
ORGANIZER;CN="Dave":administrator@civic5.com
DESCRIPTION:\nSimply Japanese/sir little nick esq tribulte meet at Beaul
	ieu National Motor MuseumFor more details\, see here &gt\;&gt\;&gt\;&gt\; 
	http://civic5.com/forum/topic/10059-simply-japanesesir-little-nick-esq-tri
	bulte-meet-at-beaulieu-national-motor-museum/\n
DTSTART;VALUE=DATE:20150802
ATTENDEE;CN="UnicyclingTom";CUTYPE=INDIVIDUAL;PARTSTAT=ACCEP
	TED:administrator@civic5.com
ATTENDEE;CN="Jayhoath83";CUTYPE=INDIVIDUAL;PARTSTAT=ACCEPTED
	:administrator@civic5.com
END:VEVENT
BEGIN:VEVENT
SUMMARY:Civic5 Japfest 2 2015 @ Rockingham
DTSTAMP:20150517T214514Z
SEQUENCE:0
UID:10-1-b253c45578f36dc9d4c45acf9db31ac6@civic5.com
ORGANIZER;CN="Dave":administrator@civic5.com
DESCRIPTION:\nGet your names on the list for the stand at Japfest2 guys!
	 http://civic5.com/forum/topic/9871-japfest-2-2015/\n
DTSTART;VALUE=DATE:20150816
ATTENDEE;CN="Shafzzz";CUTYPE=INDIVIDUAL;PARTSTAT=ACCEPTED:ad
	ministrator@civic5.com
ATTENDEE;CN="KiNK43";CUTYPE=INDIVIDUAL;PARTSTAT=ACCEPTED:adm
	inistrator@civic5.com
ATTENDEE;CN="Matt_N";CUTYPE=INDIVIDUAL;PARTSTAT=ACCEPTED:adm
	inistrator@civic5.com
ATTENDEE;CN="Krzys";CUTYPE=INDIVIDUAL;PARTSTAT=ACCEPTED:admi
	nistrator@civic5.com
ATTENDEE;CN="kizzabash";CUTYPE=INDIVIDUAL;PARTSTAT=ACCEPTED:
	administrator@civic5.com
ATTENDEE;CN="Chandler";CUTYPE=INDIVIDUAL;PARTSTAT=ACCEPTED:a
	dministrator@civic5.com
ATTENDEE;CN="phill1975";CUTYPE=INDIVIDUAL;PARTSTAT=ACCEPTED:
	administrator@civic5.com
END:VEVENT
BEGIN:VEVENT
SUMMARY:Civic5 @ Japfest 2015!!  Castle Combe
DTSTAMP:20150507T140623Z
SEQUENCE:2
UID:9-1-b253c45578f36dc9d4c45acf9db31ac6@civic5.com
ORGANIZER;CN="Dave":administrator@civic5.com
DESCRIPTION:\nWe had an amazing turn out last year lets mate it another 
	one this year!!Civic 5 stand for japfest 2015 1.porn king Chandler +misses
	 (hopefully) ----------------PAID2.flocking Phill1975---------------------
	------------------------PAID3.Matt_N--------------------------------------
	---------------------PAID4.unibollocktom----------------------------------
	----------------PAID5.hair dresser Grant &amp\; lovely asistant Trace-----
	--------PAID6.find a wet patch Krzys--------------------------------------
	-PAID7.Shafzzz----------------------------------------------------------PA
	ID8.Benthebratt-----------------------------------------------------PAID9.
	Me (Philgor) fat controller-----------------------------------PAID10.teena
	ge mutant ninja Gib36------------------------------PAID11.Mr Potato Head (
	Simpo)----------------------------------PAID12.Jayhoath83-----------------
	----------------------------------PAID13.Weaver88 rib boy-----------------
	--------------------------PAID14.ammarbm----------------------------------
	-------------------PAID15.dinochips---------------------------------------
	---------------PAID16.PataynaMB3------------------------------------------
	-------PAID17.jdmsaq------------------------------------------------------
	--PAID18.aerodeck1988-----------------------------------------------PAID19
	.Shellie--------------------------------------------------------PAID20.Wha
	ler123---------------------------------------------------PAID21.Shaun Hayw
	ard--------------------------------------------PAID22.vtec2011------------
	-----------------------------------------PAID23. Lewis (chandlers bro) ---
	--------------------------------PAID24.Trix-------------------------------
	-----------------------------PAID25.H4mza---------------------------------
	----------------------PAID26.Kizzabash------------------------------------
	---------------PAID27.Sorivity--------------------------------------------
	-----------PAID28.Snakey135-----------------------------------------------
	--PAID29. The family_Broon----------------------------------------PAID30. 
	Honda paul-------------------------------------------------PAID31.Steveo12
	1--------------------------------------------------PAID32.Seenz-----------
	---------------------------------------------PAIDPayment info:weaver88\, o
	n 19 Jan 2015 - 9:23 PM\, said:japfest is Â£26 this year for car pass an
	d that will cover the cost of posting them out to you aswell.A car pass wi
	ll get the car in to the show and 4 people so driver and 3 passengers.the 
	deadline will be Saturday 21st February my paypal is :- weaver230988@hotma
	il.co.uk if people can pay as a gift to cover the fees that will be great.
	 also can people message me your:-user namenameaddressso I can post the ca
	r passes to you\, also don't worry if it comes up saying Amanda weaver on 
	my paypal as it was my mums along time agoif people are unsure just pm me 
	as always willing to help Thanks AaronMeeting points:From the South (Dorse
	t area) Convoy will start from\, Dorchester (Tom's house) and meet others 
	here:Tesco SuperstoreStour Park\,Blandford St Mary\, Blandford Forum\,Dors
	etDT11 9PUMeeting time: 05.00.Members:From the South West (Somerset)Bridge
	water ServicesBridgewaterJunction 24 M5Meeting time: 05.30.Members:TrixFro
	m the South East Services between J9 &amp\; J10 M25Meeting time: 04.30.Mem
	bers:snakey135From the North West/West MidlandsMeeting point: B32 4ARMeeti
	ng time: 05:00.Members: Ammarbmjdmsaqh4mzaPataynaMB3BenthebrattThere will 
	be a final meeting point for separate convoys to join up at the last round
	about on the A350 before you turn right onto the A420.Postcode SN14 6LH Me
	eting at 07:30!More info on the thread here &gt\;&gt\;&gt\; http://civic5.
	com/forum/topic/9651-japfest-2015-convoy-info-in-first-post-payment-deadli
	ne-passed/\n
DTSTART;VALUE=DATE:20150516
ATTENDEE;CN="Krzys";CUTYPE=INDIVIDUAL;PARTSTAT=ACCEPTED:admi
	nistrator@civic5.com
ATTENDEE;CN="Grant";CUTYPE=INDIVIDUAL;PARTSTAT=ACCEPTED:admi
	nistrator@civic5.com
ATTENDEE;CN="simpo";CUTYPE=INDIVIDUAL;PARTSTAT=ACCEPTED:admi
	nistrator@civic5.com
ATTENDEE;CN="phill1975";CUTYPE=INDIVIDUAL;PARTSTAT=ACCEPTED:
	administrator@civic5.com
ATTENDEE;CN="philgor";CUTYPE=INDIVIDUAL;PARTSTAT=ACCEPTED:ad
	ministrator@civic5.com
ATTENDEE;CN="dr_broon";CUTYPE=INDIVIDUAL;PARTSTAT=ACCEPTED:a
	dministrator@civic5.com
ATTENDEE;CN="Jayhoath83";CUTYPE=INDIVIDUAL;PARTSTAT=ACCEPTED
	:administrator@civic5.com
ATTENDEE;CN="UnicyclingTom";CUTYPE=INDIVIDUAL;PARTSTAT=ACCEP
	TED:administrator@civic5.com
ATTENDEE;CN="Trix";CUTYPE=INDIVIDUAL;PARTSTAT=ACCEPTED:admin
	istrator@civic5.com
ATTENDEE;CN="Matt_N";CUTYPE=INDIVIDUAL;PARTSTAT=ACCEPTED:adm
	inistrator@civic5.com
ATTENDEE;CN="snakey135";CUTYPE=INDIVIDUAL;PARTSTAT=ACCEPTED:
	administrator@civic5.com
ATTENDEE;CN="Shafzzz";CUTYPE=INDIVIDUAL;PARTSTAT=ACCEPTED:ad
	ministrator@civic5.com
END:VEVENT
BEGIN:VEVENT
SUMMARY:Civic5 St Marys loch memorial run
DTSTAMP:20150507T132521Z
SEQUENCE:2
UID:8-1-b253c45578f36dc9d4c45acf9db31ac6@civic5.com
ORGANIZER;CN="Dave":administrator@civic5.com
DESCRIPTION:\nhttp://civic5.com/forum/topic/9976-civic5-scottish-meetsun
	day-june-7th-2015/?p=261166 for full details!\n
DTSTART;VALUE=DATE:20150607
ATTENDEE;CN="Dave";CUTYPE=INDIVIDUAL;PARTSTAT=ACCEPTED:admin
	istrator@civic5.com
ATTENDEE;CN="Krzys";CUTYPE=INDIVIDUAL;PARTSTAT=ACCEPTED:admi
	nistrator@civic5.com
ATTENDEE;CN="marv";CUTYPE=INDIVIDUAL;PARTSTAT=ACCEPTED:admin
	istrator@civic5.com
ATTENDEE;CN="burbleboy";CUTYPE=INDIVIDUAL;PARTSTAT=ACCEPTED:
	administrator@civic5.com
ATTENDEE;CN="philgor";CUTYPE=INDIVIDUAL;PARTSTAT=ACCEPTED:ad
	ministrator@civic5.com
ATTENDEE;CN="DAVEMB2";CUTYPE=INDIVIDUAL;PARTSTAT=ACCEPTED:ad
	ministrator@civic5.com
ATTENDEE;CN="JayTripleR";CUTYPE=INDIVIDUAL;PARTSTAT=ACCEPTED
	:administrator@civic5.com
ATTENDEE;CN="Sarahfr";CUTYPE=INDIVIDUAL;PARTSTAT=ACCEPTED:ad
	ministrator@civic5.com
ATTENDEE;CN="Jim";CUTYPE=INDIVIDUAL;PARTSTAT=ACCEPTED:admini
	strator@civic5.com
ATTENDEE;CN="vti vroom";CUTYPE=INDIVIDUAL;PARTSTAT=ACCEPTED:
	administrator@civic5.com
ATTENDEE;CN="aerodeckvtis2000";CUTYPE=INDIVIDUAL;PARTSTAT=AC
	CEPTED:administrator@civic5.com
ATTENDEE;CN="Gayle";CUTYPE=INDIVIDUAL;PARTSTAT=ACCEPTED:admi
	nistrator@civic5.com
ATTENDEE;CN="jool83";CUTYPE=INDIVIDUAL;PARTSTAT=ACCEPTED:adm
	inistrator@civic5.com
ATTENDEE;CN="JK1245";CUTYPE=INDIVIDUAL;PARTSTAT=ACCEPTED:adm
	inistrator@civic5.com
ATTENDEE;CN="Faisal";CUTYPE=INDIVIDUAL;PARTSTAT=ACCEPTED:adm
	inistrator@civic5.com
END:VEVENT
BEGIN:VEVENT
SUMMARY:Japfest2 at Donnington Park race circuit
DTSTAMP:20140811T234323Z
SEQUENCE:0
UID:7-1-b253c45578f36dc9d4c45acf9db31ac6@civic5.com
ORGANIZER;CN="Dave":administrator@civic5.com
DESCRIPTION:\nThe popular Japfest 2 show is on Sunday at Donnington Park
	 Race circuit. We'll be there on the Civic5 stand\, which is looking to be
	 a good one. If you're going to the show\, pop along to our stand and say 
	hi! See you there!\n
DTSTART;VALUE=DATE:20140817
END:VEVENT
BEGIN:VEVENT
SUMMARY:Japfest
DTSTAMP:20140502T102805Z
SEQUENCE:0
UID:6-1-b253c45578f36dc9d4c45acf9db31ac6@civic5.com
ORGANIZER;CN="Krzys":administrator@civic5.com
DESCRIPTION:\nCivic 5 has it's largest stand to date for this years Japf
	est at Castle Combe!More details here: http://civic5.com/forum/index.php?/
	topic/7603-japfest-2014-please-read-1st-post-for-convoy-details-spare-tick
	etstand-pass-available/\n
DTSTART;VALUE=DATE:20140510
END:VEVENT
BEGIN:VEVENT
SUMMARY:CIVIC5 SCOTTISH MEET
DTSTAMP:20140327T170232Z
SEQUENCE:0
UID:5-1-b253c45578f36dc9d4c45acf9db31ac6@civic5.com
ORGANIZER;CN="Dave":administrator@civic5.com
DESCRIPTION:\nCIVIC5 SCOTTISH MEET! ALL  WELCOME!DATE: SUNDAY 13TH APRIL
	 2014START TIME:  1PMLOCATION: MEETING POINT IS THE CAR PARK AREA OUTSIDE 
	DALKIETH COUNTRY PARK\, MIDLOTHIAN. FROM THERE WE WILL BE GOING ON A PRE-P
	LANNED RUN DOWN THE A7\, TAKING IN A LOT OF THE SCOTTISH BORDERS TOWNS. RU
	N WILL THEN TAKE SCENIC ROAD FROM DUNS TO THE WHITEADDER RESEVOIR.FUEL STO
	P JUST OUTSIDE DALKIETH (TESCOS AT ESKBANK) IF REQUIRED BEFORE RUN COMMENC
	ES. PLEASE LET US KNOW IF YOU NEED FUEL BEFORE LEAVING DALKIETH COUNTRY PA
	RK.SEE YOU ALL THERE!LINK TO MAIN THREAD IN FORUM &gt\;&gt\;&gt\; http://c
	ivic5.com/forum/index.php?/topic/8387-scottish-meet-sunday-13th-april-2014
	-time-changed/\n
DTSTART;VALUE=DATE:20140413
ATTENDEE;CN="Dave";CUTYPE=INDIVIDUAL;PARTSTAT=ACCEPTED:admin
	istrator@civic5.com
ATTENDEE;CN="powerofdreams";CUTYPE=INDIVIDUAL;PARTSTAT=ACCEP
	TED:administrator@civic5.com
ATTENDEE;CN="Mr Brown";CUTYPE=INDIVIDUAL;PARTSTAT=ACCEPTED:a
	dministrator@civic5.com
END:VEVENT
BEGIN:VEVENT
SUMMARY:Japfest2 Civic5
DTSTAMP:20130629T082703Z
SEQUENCE:0
UID:4-1-b253c45578f36dc9d4c45acf9db31ac6@civic5.com
ORGANIZER;CN="Dave":administrator@civic5.com
DESCRIPTION:\nhttp://civic5.com/forum/index.php?/topic/6615-japfest-2/\n
DTSTART;VALUE=DATE:20130705
END:VEVENT
BEGIN:VEVENT
SUMMARY:CrazzzyDawns Memorial meet
DTSTAMP:20130605T191136Z
SEQUENCE:0
UID:1-1-b253c45578f36dc9d4c45acf9db31ac6@civic5.com
ORGANIZER;CN="Dave":administrator@civic5.com
DESCRIPTION:\nCivic5 crazzzydawn memorial meet to remember my wife\, and
	 co-founder of Civic5.com\, who passed away 21 Jan 2013. Please see the ci
	vic5 meets section for full details and to add your name to the list\n
DTSTART;VALUE=DATE:20130804
END:VEVENT
END:VCALENDAR
